BEGIN:VCALENDAR
VERSION:2.0
PRODID:-//Kaisermusic • Frank Kaiser - ECPv5.2.0//NONSGML v1.0//EN
CALSCALE:GREGORIAN
METHOD:PUBLISH
X-WR-CALNAME:Kaisermusic • Frank Kaiser
X-ORIGINAL-URL:https://kaisermusic.de
X-WR-CALDESC:Veranstaltungen für Kaisermusic • Frank Kaiser
BEGIN:VTIMEZONE
TZID:Europe/Berlin
BEGIN:DAYLIGHT
TZOFFSETFROM:+0100
TZOFFSETTO:+0200
TZNAME:CEST
DTSTART:20250330T010000
END:DAYLIGHT
BEGIN:STANDARD
TZOFFSETFROM:+0200
TZOFFSETTO:+0100
TZNAME:CET
DTSTART:20251026T010000
END:STANDARD
END:VTIMEZONE
BEGIN:VEVENT
DTSTART;TZID=Europe/Berlin:20250913T190000
DTEND;TZID=Europe/Berlin:20250913T210000
DTSTAMP:20260419T161220
CREATED:20250724T132537Z
LAST-MODIFIED:20250724T132537Z
UID:14230-1757790000-1757797200@kaisermusic.de
SUMMARY:Spanish Mode
DESCRIPTION:Konzert im Jazzclub Erfurt
URL:https://kaisermusic.de/termine/spanish-mode-30/
LOCATION:Jazzclub Erfurt
CATEGORIES:Konzert,Spanish Mode
END:VEVENT
END:VCALENDAR