BEGIN:VCALENDAR
VERSION:2.0
PRODID:-//Kaisermusic • Frank Kaiser - ECPv5.2.0//NONSGML v1.0//EN
CALSCALE:GREGORIAN
METHOD:PUBLISH
X-WR-CALNAME:Kaisermusic • Frank Kaiser
X-ORIGINAL-URL:https://kaisermusic.de
X-WR-CALDESC:Veranstaltungen für Kaisermusic • Frank Kaiser
BEGIN:VTIMEZONE
TZID:Europe/Berlin
BEGIN:DAYLIGHT
TZOFFSETFROM:+0100
TZOFFSETTO:+0200
TZNAME:CEST
DTSTART:20240331T010000
END:DAYLIGHT
BEGIN:STANDARD
TZOFFSETFROM:+0200
TZOFFSETTO:+0100
TZNAME:CET
DTSTART:20241027T010000
END:STANDARD
END:VTIMEZONE
BEGIN:VEVENT
DTSTART;VALUE=DATE:20240626
DTEND;VALUE=DATE:20240701
DTSTAMP:20260419T191049
CREATED:20240611T180248Z
LAST-MODIFIED:20240611T180248Z
UID:13947-1719360000-1719791999@kaisermusic.de
SUMMARY:Spanish Mode
DESCRIPTION:Ostsee-Mecklenburg Tour
URL:https://kaisermusic.de/termine/spanish-mode-23/
LOCATION:Ostsee-Mecklenburg
CATEGORIES:Spanish Mode
END:VEVENT
END:VCALENDAR