BEGIN:VCALENDAR
VERSION:2.0
PRODID:-//Kaisermusic • Frank Kaiser - ECPv5.2.0//NONSGML v1.0//EN
CALSCALE:GREGORIAN
METHOD:PUBLISH
X-WR-CALNAME:Kaisermusic • Frank Kaiser
X-ORIGINAL-URL:https://kaisermusic.de
X-WR-CALDESC:Veranstaltungen für Kaisermusic • Frank Kaiser
BEGIN:VTIMEZONE
TZID:Europe/Berlin
BEGIN:DAYLIGHT
TZOFFSETFROM:+0100
TZOFFSETTO:+0200
TZNAME:CEST
DTSTART:20240331T010000
END:DAYLIGHT
BEGIN:STANDARD
TZOFFSETFROM:+0200
TZOFFSETTO:+0100
TZNAME:CET
DTSTART:20241027T010000
END:STANDARD
END:VTIMEZONE
BEGIN:VEVENT
DTSTART;TZID=Europe/Berlin:20240614T200000
DTEND;TZID=Europe/Berlin:20240614T220000
DTSTAMP:20260419T192241
CREATED:20240611T175952Z
LAST-MODIFIED:20240611T175952Z
UID:13938-1718395200-1718402400@kaisermusic.de
SUMMARY:Spanish Mode
DESCRIPTION:
URL:https://kaisermusic.de/termine/spanish-mode-22/
LOCATION:Rosarium Sangerhausen
CATEGORIES:Konzert,Spanish Mode
END:VEVENT
END:VCALENDAR