BEGIN:VCALENDAR
VERSION:2.0
PRODID:-//Kaisermusic • Frank Kaiser - ECPv5.2.0//NONSGML v1.0//EN
CALSCALE:GREGORIAN
METHOD:PUBLISH
X-WR-CALNAME:Kaisermusic • Frank Kaiser
X-ORIGINAL-URL:https://kaisermusic.de
X-WR-CALDESC:Veranstaltungen für Kaisermusic • Frank Kaiser
BEGIN:VTIMEZONE
TZID:Europe/Berlin
BEGIN:DAYLIGHT
TZOFFSETFROM:+0100
TZOFFSETTO:+0200
TZNAME:CEST
DTSTART:20220327T010000
END:DAYLIGHT
BEGIN:STANDARD
TZOFFSETFROM:+0200
TZOFFSETTO:+0100
TZNAME:CET
DTSTART:20221030T010000
END:STANDARD
END:VTIMEZONE
BEGIN:VEVENT
DTSTART;TZID=Europe/Berlin:20220806T200000
DTEND;TZID=Europe/Berlin:20220806T213000
DTSTAMP:20260419T235141
CREATED:20220420T184158Z
LAST-MODIFIED:20220420T184158Z
UID:13812-1659816000-1659821400@kaisermusic.de
SUMMARY:Spanish Mode
DESCRIPTION:
URL:https://kaisermusic.de/termine/spanish-mode-19/
LOCATION:Kloster Drübeck
CATEGORIES:Spanish Mode
END:VEVENT
END:VCALENDAR