BEGIN:VCALENDAR
VERSION:2.0
PRODID:-//Kaisermusic • Frank Kaiser - ECPv5.2.0//NONSGML v1.0//EN
CALSCALE:GREGORIAN
METHOD:PUBLISH
X-WR-CALNAME:Kaisermusic • Frank Kaiser
X-ORIGINAL-URL:https://kaisermusic.de
X-WR-CALDESC:Veranstaltungen für Kaisermusic • Frank Kaiser
BEGIN:VTIMEZONE
TZID:Europe/Berlin
BEGIN:DAYLIGHT
TZOFFSETFROM:+0100
TZOFFSETTO:+0200
TZNAME:CEST
DTSTART:20240331T010000
END:DAYLIGHT
BEGIN:STANDARD
TZOFFSETFROM:+0200
TZOFFSETTO:+0100
TZNAME:CET
DTSTART:20241027T010000
END:STANDARD
END:VTIMEZONE
BEGIN:VEVENT
DTSTART;TZID=Europe/Berlin:20240608T180000
DTEND;TZID=Europe/Berlin:20240608T200000
DTSTAMP:20260419T203222
CREATED:20240611T175803Z
LAST-MODIFIED:20240611T175803Z
UID:13932-1717869600-1717876800@kaisermusic.de
SUMMARY:LeipjazzigOrkester
DESCRIPTION:mit dem Chor aus Paraguay zum Bachfest\, Marktplatz Leipzig
URL:https://kaisermusic.de/termine/leipjazzigorkester-2/
LOCATION:Bachfest\, Marktplatz Leipzig
CATEGORIES:Leipjazzigorkester
END:VEVENT
END:VCALENDAR