BEGIN:VCALENDAR
VERSION:2.0
PRODID:-//Kaisermusic • Frank Kaiser - ECPv5.2.0//NONSGML v1.0//EN
CALSCALE:GREGORIAN
METHOD:PUBLISH
X-WR-CALNAME:Kaisermusic • Frank Kaiser
X-ORIGINAL-URL:https://kaisermusic.de
X-WR-CALDESC:Veranstaltungen für Kaisermusic • Frank Kaiser
BEGIN:VTIMEZONE
TZID:Europe/Berlin
BEGIN:DAYLIGHT
TZOFFSETFROM:+0100
TZOFFSETTO:+0200
TZNAME:CEST
DTSTART:20250330T010000
END:DAYLIGHT
BEGIN:STANDARD
TZOFFSETFROM:+0200
TZOFFSETTO:+0100
TZNAME:CET
DTSTART:20251026T010000
END:STANDARD
END:VTIMEZONE
BEGIN:VEVENT
DTSTART;TZID=Europe/Berlin:20250302T170000
DTEND;TZID=Europe/Berlin:20250302T190000
DTSTAMP:20260419T190609
CREATED:20250120T172456Z
LAST-MODIFIED:20250120T172456Z
UID:14021-1740934800-1740942000@kaisermusic.de
SUMMARY:Kaisers New World
DESCRIPTION:Kaisers New World Tour\nTickets: \n karten@forum-gestaltung.de\, Tel: 49 (0) 391 99 08 76 11
URL:https://kaisermusic.de/termine/kaisers-new-world-tour-02-03/
LOCATION:Forum Gestaltung\, Magdeburg
CATEGORIES:Kaisers New World
END:VEVENT
END:VCALENDAR