BEGIN:VCALENDAR
VERSION:2.0
PRODID:-//Kaisermusic • Frank Kaiser - ECPv5.2.0//NONSGML v1.0//EN
CALSCALE:GREGORIAN
METHOD:PUBLISH
X-WR-CALNAME:Kaisermusic • Frank Kaiser
X-ORIGINAL-URL:https://kaisermusic.de
X-WR-CALDESC:Veranstaltungen für Kaisermusic • Frank Kaiser
BEGIN:VTIMEZONE
TZID:Europe/Berlin
BEGIN:DAYLIGHT
TZOFFSETFROM:+0100
TZOFFSETTO:+0200
TZNAME:CEST
DTSTART:20250330T010000
END:DAYLIGHT
BEGIN:STANDARD
TZOFFSETFROM:+0200
TZOFFSETTO:+0100
TZNAME:CET
DTSTART:20251026T010000
END:STANDARD
END:VTIMEZONE
BEGIN:VEVENT
DTSTART;TZID=Europe/Berlin:20250228T200000
DTEND;TZID=Europe/Berlin:20250228T220000
DTSTAMP:20260419T172523
CREATED:20250120T172051Z
LAST-MODIFIED:20250120T172215Z
UID:14013-1740772800-1740780000@kaisermusic.de
SUMMARY:Kaisers New World
DESCRIPTION:Kaisers New World Tour\nTickets über: \nCULTON Ticket Leipzig: 0341 / 141618 \, www.culton.de oder bei www.tixforgigs.com
URL:https://kaisermusic.de/termine/kaisers-new-world-28-02-2025/
LOCATION:Horns Erben\, Leipzig
CATEGORIES:Kaisers New World
END:VEVENT
END:VCALENDAR