BEGIN:VCALENDAR
VERSION:2.0
PRODID:-//Kaisermusic • Frank Kaiser - ECPv5.2.0//NONSGML v1.0//EN
CALSCALE:GREGORIAN
METHOD:PUBLISH
X-WR-CALNAME:Kaisermusic • Frank Kaiser
X-ORIGINAL-URL:https://kaisermusic.de
X-WR-CALDESC:Veranstaltungen für Kaisermusic • Frank Kaiser
BEGIN:VTIMEZONE
TZID:Europe/Berlin
BEGIN:DAYLIGHT
TZOFFSETFROM:+0100
TZOFFSETTO:+0200
TZNAME:CEST
DTSTART:20240331T010000
END:DAYLIGHT
BEGIN:STANDARD
TZOFFSETFROM:+0200
TZOFFSETTO:+0100
TZNAME:CET
DTSTART:20241027T010000
END:STANDARD
END:VTIMEZONE
BEGIN:VEVENT
DTSTART;TZID=Europe/Berlin:20240714T170000
DTEND;TZID=Europe/Berlin:20240714T190000
DTSTAMP:20260419T190440
CREATED:20240611T180527Z
LAST-MODIFIED:20240611T180527Z
UID:13957-1720976400-1720983600@kaisermusic.de
SUMMARY:Kaisers New World
DESCRIPTION:Palais-Sommer Dresden\, open Air vor der Frauenkirche 
URL:https://kaisermusic.de/termine/kaisers-new-world-17/
LOCATION:Frauenkirche Dresden
CATEGORIES:Kaisers New World
END:VEVENT
END:VCALENDAR