BEGIN:VCALENDAR
VERSION:2.0
PRODID:-//Kaisermusic • Frank Kaiser - ECPv5.2.0//NONSGML v1.0//EN
CALSCALE:GREGORIAN
METHOD:PUBLISH
X-WR-CALNAME:Kaisermusic • Frank Kaiser
X-ORIGINAL-URL:https://kaisermusic.de
X-WR-CALDESC:Veranstaltungen für Kaisermusic • Frank Kaiser
BEGIN:VTIMEZONE
TZID:Europe/Berlin
BEGIN:DAYLIGHT
TZOFFSETFROM:+0100
TZOFFSETTO:+0200
TZNAME:CEST
DTSTART:20240331T010000
END:DAYLIGHT
BEGIN:STANDARD
TZOFFSETFROM:+0200
TZOFFSETTO:+0100
TZNAME:CET
DTSTART:20241027T010000
END:STANDARD
END:VTIMEZONE
BEGIN:VEVENT
DTSTART;VALUE=DATE:20240615
DTEND;VALUE=DATE:20240617
DTSTAMP:20260419T210740
CREATED:20240611T180117Z
LAST-MODIFIED:20240611T180117Z
UID:13941-1718409600-1718582399@kaisermusic.de
SUMMARY:Kaisers New World
DESCRIPTION:Kaisers New World zum Jazzfest
URL:https://kaisermusic.de/termine/kaisers-new-world-14/
LOCATION:Ahrenshoop/Darß
CATEGORIES:Kaisers New World
END:VEVENT
END:VCALENDAR