BEGIN:VCALENDAR
VERSION:2.0
PRODID:-//Kaisermusic • Frank Kaiser - ECPv5.2.0//NONSGML v1.0//EN
CALSCALE:GREGORIAN
METHOD:PUBLISH
X-WR-CALNAME:Kaisermusic • Frank Kaiser
X-ORIGINAL-URL:https://kaisermusic.de
X-WR-CALDESC:Veranstaltungen für Kaisermusic • Frank Kaiser
BEGIN:VTIMEZONE
TZID:Europe/Berlin
BEGIN:DAYLIGHT
TZOFFSETFROM:+0100
TZOFFSETTO:+0200
TZNAME:CEST
DTSTART:20230326T010000
END:DAYLIGHT
BEGIN:STANDARD
TZOFFSETFROM:+0200
TZOFFSETTO:+0100
TZNAME:CET
DTSTART:20231029T010000
END:STANDARD
END:VTIMEZONE
BEGIN:VEVENT
DTSTART;TZID=Europe/Berlin:20230330T000000
DTEND;TZID=Europe/Berlin:20230330T000000
DTSTAMP:20260419T225601
CREATED:20230224T124000Z
LAST-MODIFIED:20230224T124000Z
UID:13892-1680134400-1680134400@kaisermusic.de
SUMMARY:Kaisers New World
DESCRIPTION:Record-Release Spring Tour
URL:https://kaisermusic.de/termine/kaisers-new-world-10/
LOCATION:Magdeburg\, „Forum Gestaltung“
CATEGORIES:Kaisers New World,Konzert
END:VEVENT
END:VCALENDAR