BEGIN:VCALENDAR
VERSION:2.0
PRODID:-//Kaisermusic • Frank Kaiser - ECPv5.2.0//NONSGML v1.0//EN
CALSCALE:GREGORIAN
METHOD:PUBLISH
X-WR-CALNAME:Kaisermusic • Frank Kaiser
X-ORIGINAL-URL:https://kaisermusic.de
X-WR-CALDESC:Veranstaltungen für Kaisermusic • Frank Kaiser
BEGIN:VTIMEZONE
TZID:Europe/Berlin
BEGIN:DAYLIGHT
TZOFFSETFROM:+0100
TZOFFSETTO:+0200
TZNAME:CEST
DTSTART:20240331T010000
END:DAYLIGHT
BEGIN:STANDARD
TZOFFSETFROM:+0200
TZOFFSETTO:+0100
TZNAME:CET
DTSTART:20241027T010000
END:STANDARD
END:VTIMEZONE
BEGIN:VEVENT
DTSTART;TZID=Europe/Berlin:20240613T183000
DTEND;TZID=Europe/Berlin:20240613T200000
DTSTAMP:20260419T190116
CREATED:20240611T175903Z
LAST-MODIFIED:20240611T175903Z
UID:13935-1718303400-1718308800@kaisermusic.de
SUMMARY:JamStreet
DESCRIPTION:EM-Auftakt im Leipziger Zoo\, Bühne Eingangsbereich
URL:https://kaisermusic.de/termine/jamstreet-42/
LOCATION:Leipziger Zoo
CATEGORIES:Jamstreet
END:VEVENT
END:VCALENDAR