BEGIN:VCALENDAR
VERSION:2.0
PRODID:-//Kaisermusic • Frank Kaiser - ECPv5.2.0//NONSGML v1.0//EN
CALSCALE:GREGORIAN
METHOD:PUBLISH
X-WR-CALNAME:Kaisermusic • Frank Kaiser
X-ORIGINAL-URL:https://kaisermusic.de
X-WR-CALDESC:Veranstaltungen für Kaisermusic • Frank Kaiser
BEGIN:VTIMEZONE
TZID:Europe/Berlin
BEGIN:DAYLIGHT
TZOFFSETFROM:+0100
TZOFFSETTO:+0200
TZNAME:CEST
DTSTART:20250330T010000
END:DAYLIGHT
BEGIN:STANDARD
TZOFFSETFROM:+0200
TZOFFSETTO:+0100
TZNAME:CET
DTSTART:20251026T010000
END:STANDARD
END:VTIMEZONE
BEGIN:VEVENT
DTSTART;TZID=Europe/Berlin:20250227T200000
DTEND;TZID=Europe/Berlin:20250227T230000
DTSTAMP:20260421T121024
CREATED:20250120T171605Z
LAST-MODIFIED:20250120T171620Z
UID:14002-1740686400-1740697200@kaisermusic.de
SUMMARY:Kaisersisters
DESCRIPTION:
URL:https://kaisermusic.de/termine/27-02/
LOCATION:Tonelli`s\, Neumarkt 9\, Leipzig\, 04109
CATEGORIES:KaiserSisters
END:VEVENT
END:VCALENDAR